BEGIN:VCALENDAR
VERSION:2.0
PRODID:-//Trill Hip-Hop Shop - ECPv6.15.11//NONSGML v1.0//EN
CALSCALE:GREGORIAN
METHOD:PUBLISH
X-WR-CALNAME:Trill Hip-Hop Shop
X-ORIGINAL-URL:https://trillphx.com
X-WR-CALDESC:Events for Trill Hip-Hop Shop
REFRESH-INTERVAL;VALUE=DURATION:PT1H
X-Robots-Tag:noindex
X-PUBLISHED-TTL:PT1H
BEGIN:VTIMEZONE
TZID:America/Phoenix
BEGIN:STANDARD
TZOFFSETFROM:-0700
TZOFFSETTO:-0700
TZNAME:MST
DTSTART:20210101T000000
END:STANDARD
END:VTIMEZONE
BEGIN:VEVENT
DTSTART;TZID=America/Phoenix:20221215T180000
DTEND;TZID=America/Phoenix:20221215T210000
DTSTAMP:20260423T133317
CREATED:20221209T215257Z
LAST-MODIFIED:20221209T215309Z
UID:29495-1671127200-1671138000@trillphx.com
SUMMARY:Fader Manners
DESCRIPTION:The final Fader Manners of the year is going down Thursday\, December 15th at Trill Hip Hop Shop! \nFader Manners is a monthly dedicated to the DJ/Turntablist Art form created by DJs Akshen and Les735. Their goal is to unite DJs of all skill levels to scratch\, talk\, laugh\, & create camaraderie. \nThis is an open table session for all skill levels and all ages so bring the whole family and join in on the fun!
URL:https://trillphx.com/event/fader-manners/
LOCATION:Trill Hip Hop Shop\, 4828 N. 16th St\, Phoenix\, AZ\, 85014\, United States
CATEGORIES:DJ Events,In-Store Events
ATTACH;FMTTYPE=image/jpeg:https://trillphx.com/wp-content/uploads/2022/12/319355003_10229349421629621_1291319192338637940_n.jpg
END:VEVENT
END:VCALENDAR