BEGIN:VCALENDAR
VERSION:2.0
PRODID:-//Trill Hip-Hop Shop - ECPv6.15.11//NONSGML v1.0//EN
CALSCALE:GREGORIAN
METHOD:PUBLISH
X-WR-CALNAME:Trill Hip-Hop Shop
X-ORIGINAL-URL:https://trillphx.com
X-WR-CALDESC:Events for Trill Hip-Hop Shop
REFRESH-INTERVAL;VALUE=DURATION:PT1H
X-Robots-Tag:noindex
X-PUBLISHED-TTL:PT1H
BEGIN:VTIMEZONE
TZID:America/Phoenix
BEGIN:STANDARD
TZOFFSETFROM:-0700
TZOFFSETTO:-0700
TZNAME:MST
DTSTART:20210101T000000
END:STANDARD
END:VTIMEZONE
BEGIN:VEVENT
DTSTART;TZID=America/Phoenix:20220914T170000
DTEND;TZID=America/Phoenix:20220914T210000
DTSTAMP:20260423T171149
CREATED:20220819T165048Z
LAST-MODIFIED:20220819T165130Z
UID:29236-1663174800-1663189200@trillphx.com
SUMMARY:Fader Manners With Lord Finesse
DESCRIPTION:Fader Manners & Coolin’ Out bring you Fader Manners featuring Lord Finesse Wednesday\, September 14th at Trill Hip Hop Shop! \nFader Manners is a Monthly dedicated to the DJ/Turntablist art form with the goal of uniting DJs of all skill levels to scratch\, talk\, laugh\, & create camaraderie. This next installment of the turntablist monthly will feature the legendary Lord Finesse! This is going to be amazing to say the least\, so don’t sleep! \nThis is an ALL AGES and FREE event so bring the whole family!
URL:https://trillphx.com/event/fader-manners-with-lord-finesse/
LOCATION:Trill Hip Hop Shop\, 4828 N. 16th St\, Phoenix\, AZ\, 85014\, United States
CATEGORIES:DJ Events,In-Store Events
ATTACH;FMTTYPE=image/jpeg:https://trillphx.com/wp-content/uploads/2022/08/IMG_6810.jpg
END:VEVENT
END:VCALENDAR