BEGIN:VCALENDAR
VERSION:2.0
PRODID:-//Trill Hip-Hop Shop - ECPv6.15.11//NONSGML v1.0//EN
CALSCALE:GREGORIAN
METHOD:PUBLISH
X-WR-CALNAME:Trill Hip-Hop Shop
X-ORIGINAL-URL:https://trillphx.com
X-WR-CALDESC:Events for Trill Hip-Hop Shop
REFRESH-INTERVAL;VALUE=DURATION:PT1H
X-Robots-Tag:noindex
X-PUBLISHED-TTL:PT1H
BEGIN:VTIMEZONE
TZID:America/Phoenix
BEGIN:STANDARD
TZOFFSETFROM:-0700
TZOFFSETTO:-0700
TZNAME:MST
DTSTART:20210101T000000
END:STANDARD
END:VTIMEZONE
BEGIN:VEVENT
DTSTART;TZID=America/Phoenix:20221029T210000
DTEND;TZID=America/Phoenix:20221030T020000
DTSTAMP:20260423T133411
CREATED:20221019T185635Z
LAST-MODIFIED:20221019T185635Z
UID:29358-1667077200-1667095200@trillphx.com
SUMMARY:The Official Trilloween Afterparty
DESCRIPTION:Coolin’ Out Presents and Trill Hip Hop Shop bring you the official Trilloween Afterparty Saturday\, October 29th at Rips Bar!\n\nAfter the day time Trilloween festivities at Trill Hip Hop Shop ft. Pharoahe Monch\, Del The Funky Homosapien\, Statik Selektah & D-Stroy roll over to Rips bar for the official Trilloween Afterparty hosted by D-Stroy of The Arsonists\, Showoff Your Gems\, & the Lord Sear Special (Sirius XM) for a night full of shenanigans!\n\nThe Coolin’ Out DJs will be holding down the decks for your listening pleasure all night. There will also be a very special guest joining in on the fun. As usual\, there will be a best costume contest for a cash prize.\n\nThis is a 21+ party so bring your ID.
URL:https://trillphx.com/event/the-official-trilloween-afterparty/
LOCATION:Rips Bar\, 3045 N 16th St\, Phoenix\, AZ\, 85016
CATEGORIES:General Events
ATTACH;FMTTYPE=image/png:https://trillphx.com/wp-content/uploads/2022/10/TrilloweenAfter_Oct29th.png
END:VEVENT
END:VCALENDAR