BEGIN:VCALENDAR
VERSION:2.0
PRODID:-//Trill Hip-Hop Shop - ECPv6.15.11//NONSGML v1.0//EN
CALSCALE:GREGORIAN
METHOD:PUBLISH
X-ORIGINAL-URL:https://trillphx.com
X-WR-CALDESC:Events for Trill Hip-Hop Shop
REFRESH-INTERVAL;VALUE=DURATION:PT1H
X-Robots-Tag:noindex
X-PUBLISHED-TTL:PT1H
BEGIN:VTIMEZONE
TZID:America/Phoenix
BEGIN:STANDARD
TZOFFSETFROM:-0700
TZOFFSETTO:-0700
TZNAME:MST
DTSTART:20240101T000000
END:STANDARD
END:VTIMEZONE
BEGIN:VEVENT
DTSTART;TZID=America/Phoenix:20251206T090000
DTEND;TZID=America/Phoenix:20251206T170000
DTSTAMP:20260421T180139
CREATED:20251124T003026Z
LAST-MODIFIED:20251124T003026Z
UID:34683-1765011600-1765040400@trillphx.com
SUMMARY: Orange County \, we’re pulling up!  TRILL is headed to Cal State Fullerton’s Thriftopia Pop-Up
DESCRIPTION: Orange County \, we’re pulling up!  TRILL is headed to Cal State Fullerton’s Thriftopia Pop-Up and we’re coming heavy with the heat!  Swing by our booth for the freshest vintage streetwear\, rare hip hop collectibles\, tees\, jerseys\, vinyl\, and way more exclusive finds. Whether you’re hunting for one-of-a-kind grails or just want to vibe with the TRILL fam\, this is the spot!\nDon’t sleep: come build\, shop\, and help keep the culture alive with us. See y’all at Thriftopia! \n#TrillHipHopShop #Thriftopia #Fullerton #HipHopCulture #VintageFinds #CommunityFirst
URL:https://trillphx.com/event/orange-county-were-pulling-up-trill-is-headed-to-cal-state-fullertons-thriftopia-pop-up/
LOCATION:cal state fullerton\, 900 Nutwood Ave\, Fullerton\, CA\, 92831
CATEGORIES:General Events
ATTACH;FMTTYPE=image/jpeg:https://trillphx.com/wp-content/uploads/2025/11/586533667_1297983819015491_8054029155190235503_n.jpg
END:VEVENT
END:VCALENDAR