BEGIN:VCALENDAR
VERSION:2.0
PRODID:-//Trill Hip-Hop Shop - ECPv6.15.11//NONSGML v1.0//EN
CALSCALE:GREGORIAN
METHOD:PUBLISH
X-ORIGINAL-URL:https://trillphx.com
X-WR-CALDESC:Events for Trill Hip-Hop Shop
REFRESH-INTERVAL;VALUE=DURATION:PT1H
X-Robots-Tag:noindex
X-PUBLISHED-TTL:PT1H
BEGIN:VTIMEZONE
TZID:America/Phoenix
BEGIN:STANDARD
TZOFFSETFROM:-0700
TZOFFSETTO:-0700
TZNAME:MST
DTSTART:20180101T000000
END:STANDARD
END:VTIMEZONE
BEGIN:VEVENT
DTSTART;TZID=America/Phoenix:20190828T180000
DTEND;TZID=America/Phoenix:20190828T210000
DTSTAMP:20260421T121510
CREATED:20190811T222142Z
LAST-MODIFIED:20190812T201053Z
UID:9774-1567015200-1567026000@trillphx.com
SUMMARY:Lyrical Beatdown Round 1
DESCRIPTION:Round 1 of the Lyrical Beatdown Battle Series August 28th at Trill Hip Hop Shop from 6pm til 9pm. 1st place winner gets $250 cash and $100 in store credit. 1st and 2nd place winners advance to the finals for their chance to win $1000 cash prize and $500 in store credit. \nDJs Fact135 & Psycho Pat on the wheels. \nSign up for the MC battle -> Sign Up Here \nThis is a FREE and ALL AGES event!
URL:https://trillphx.com/event/lyrical-beatdown-round-1/
LOCATION:Trill Hip Hop Shop\, 4828 N. 16th St\, Phoenix\, AZ\, 85014\, United States
CATEGORIES:In-Store Events
ATTACH;FMTTYPE=image/jpeg:https://trillphx.com/wp-content/uploads/2019/08/67569139_2429084817148279_930792848394027008_o.jpg
END:VEVENT
END:VCALENDAR