BEGIN:VCALENDAR
VERSION:2.0
PRODID:-//Trill Hip-Hop Shop - ECPv6.15.11//NONSGML v1.0//EN
CALSCALE:GREGORIAN
METHOD:PUBLISH
X-WR-CALNAME:Trill Hip-Hop Shop
X-ORIGINAL-URL:https://trillphx.com
X-WR-CALDESC:Events for Trill Hip-Hop Shop
REFRESH-INTERVAL;VALUE=DURATION:PT1H
X-Robots-Tag:noindex
X-PUBLISHED-TTL:PT1H
BEGIN:VTIMEZONE
TZID:America/Phoenix
BEGIN:STANDARD
TZOFFSETFROM:-0700
TZOFFSETTO:-0700
TZNAME:MST
DTSTART:20180101T000000
END:STANDARD
END:VTIMEZONE
BEGIN:VEVENT
DTSTART;TZID=America/Phoenix:20190515T170000
DTEND;TZID=America/Phoenix:20190515T210000
DTSTAMP:20260422T070322
CREATED:20190506T214614Z
LAST-MODIFIED:20190509T033859Z
UID:7758-1557939600-1557954000@trillphx.com
SUMMARY:Trill Grand Opening & Fader Manners 5 Year Anniversary
DESCRIPTION:Come Join us Wednesday\, May 15th at the Trill Hip Hop Shop as we celebrate Trill’s grand re-opening and the Fader Manners 5 Year Anniversary with DJ Shortkut\, DJ Cwitch\, Barnyard Mixshow DJs\, and Jesse Dean Designs. This is a FREE show. All Ages welcome! For more information\, head over to the official event page here.
URL:https://trillphx.com/event/trill-grand-opening-fader-manners-5-year-anniversary/
LOCATION:Trill Hip Hop Shop\, 4828 N. 16th St\, Phoenix\, AZ\, 85014\, United States
CATEGORIES:In-Store Events
END:VEVENT
END:VCALENDAR