BEGIN:VCALENDAR
VERSION:2.0
PRODID:-//Trill Hip-Hop Shop - ECPv6.15.11//NONSGML v1.0//EN
CALSCALE:GREGORIAN
METHOD:PUBLISH
X-ORIGINAL-URL:https://trillphx.com
X-WR-CALDESC:Events for Trill Hip-Hop Shop
REFRESH-INTERVAL;VALUE=DURATION:PT1H
X-Robots-Tag:noindex
X-PUBLISHED-TTL:PT1H
BEGIN:VTIMEZONE
TZID:America/Phoenix
BEGIN:STANDARD
TZOFFSETFROM:-0700
TZOFFSETTO:-0700
TZNAME:MST
DTSTART:20240101T000000
END:STANDARD
END:VTIMEZONE
BEGIN:VEVENT
DTSTART;TZID=America/Phoenix:20250107T183000
DTEND;TZID=America/Phoenix:20250107T200000
DTSTAMP:20260423T020220
CREATED:20250107T215225Z
LAST-MODIFIED:20250107T215225Z
UID:32462-1736274600-1736280000@trillphx.com
SUMMARY:Open Sessions
DESCRIPTION:Open Turntables | Open Blackbook | Open Cypher \nAll Ages and All Dance Styles Welcome \nResident DJs – DJ Akshen | Diego Dundee \nBlackbook Host – AWER
URL:https://trillphx.com/event/open-sessions/
LOCATION:Trill Hip Hop Shop\, 4828 N. 16th St\, Phoenix\, AZ\, 85014\, United States
CATEGORIES:Open Sessions
ATTACH;FMTTYPE=image/png:https://trillphx.com/wp-content/uploads/2025/01/OpenSessions.png
END:VEVENT
BEGIN:VEVENT
DTSTART;TZID=America/Phoenix:20250121T183000
DTEND;TZID=America/Phoenix:20250121T200000
DTSTAMP:20260423T020220
CREATED:20250115T030000Z
LAST-MODIFIED:20250121T203600Z
UID:32467-1737484200-1737489600@trillphx.com
SUMMARY:Open Sessions
DESCRIPTION:Open Turntables | Open Blackbook | Open Cypher \nAll Ages and All Dance Styles Welcome \nResident DJs – DJ Akshen | Diego Dundee \nBlackbook Host – AWER
URL:https://trillphx.com/event/open-sessions-3/
LOCATION:Trill Hip Hop Shop\, 4828 N. 16th St\, Phoenix\, AZ\, 85014\, United States
CATEGORIES:Open Sessions
ATTACH;FMTTYPE=image/jpeg:https://trillphx.com/wp-content/uploads/2025/01/OpenSessions2025.jpg
END:VEVENT
BEGIN:VEVENT
DTSTART;TZID=America/Phoenix:20250128T183000
DTEND;TZID=America/Phoenix:20250128T200000
DTSTAMP:20260423T020220
CREATED:20250122T030018Z
LAST-MODIFIED:20250122T204403Z
UID:32470-1738089000-1738094400@trillphx.com
SUMMARY:Open Sessions
DESCRIPTION:Open Turntables | Open Blackbook | Open Cypher \nAll Ages and All Dance Styles Welcome \nResident DJs – DJ Akshen | Diego Dundee \nBlackbook Host – AWER
URL:https://trillphx.com/event/open-sessions-4/
CATEGORIES:Open Sessions
ATTACH;FMTTYPE=image/jpeg:https://trillphx.com/wp-content/uploads/2025/01/OpenSessions2025.jpg
END:VEVENT
END:VCALENDAR