BEGIN:VCALENDAR
VERSION:2.0
PRODID:-//Trill Hip-Hop Shop - ECPv6.15.11//NONSGML v1.0//EN
CALSCALE:GREGORIAN
METHOD:PUBLISH
X-WR-CALNAME:Trill Hip-Hop Shop
X-ORIGINAL-URL:https://trillphx.com
X-WR-CALDESC:Events for Trill Hip-Hop Shop
REFRESH-INTERVAL;VALUE=DURATION:PT1H
X-Robots-Tag:noindex
X-PUBLISHED-TTL:PT1H
BEGIN:VTIMEZONE
TZID:America/Phoenix
BEGIN:STANDARD
TZOFFSETFROM:-0700
TZOFFSETTO:-0700
TZNAME:MST
DTSTART:20180101T000000
END:STANDARD
END:VTIMEZONE
BEGIN:VEVENT
DTSTART;TZID=America/Phoenix:20190919T180000
DTEND;TZID=America/Phoenix:20190919T210000
DTSTAMP:20260422T051107
CREATED:20190902T211739Z
LAST-MODIFIED:20190902T211739Z
UID:10115-1568916000-1568926800@trillphx.com
SUMMARY:Apathy & Celph Titled at Trill Hip Hop Shop
DESCRIPTION:Trill proudly presents the Paragraphs of Murder Tour featuring Apathy & Celph Titled Thursday\, September 19th at Trill Hip Hop Shop. Additional support will be provided by NME the Illest & DJ Fact135. \nThis is a FREE and ALL AGES show!
URL:https://trillphx.com/event/apathy-celph-titled-at-trill-hip-hop-shop/
LOCATION:Trill Hip Hop Shop\, 4828 N. 16th St\, Phoenix\, AZ\, 85014\, United States
CATEGORIES:In-Store Events
ATTACH;FMTTYPE=image/jpeg:https://trillphx.com/wp-content/uploads/2019/09/67066969_2393906280666133_9207632304564862976_n.jpg
END:VEVENT
END:VCALENDAR