BEGIN:VCALENDAR
VERSION:2.0
PRODID:-//Trill Hip-Hop Shop - ECPv6.15.11//NONSGML v1.0//EN
CALSCALE:GREGORIAN
METHOD:PUBLISH
X-ORIGINAL-URL:https://trillphx.com
X-WR-CALDESC:Events for Trill Hip-Hop Shop
REFRESH-INTERVAL;VALUE=DURATION:PT1H
X-Robots-Tag:noindex
X-PUBLISHED-TTL:PT1H
BEGIN:VTIMEZONE
TZID:America/Phoenix
BEGIN:STANDARD
TZOFFSETFROM:-0700
TZOFFSETTO:-0700
TZNAME:MST
DTSTART:20240101T000000
END:STANDARD
END:VTIMEZONE
BEGIN:VEVENT
DTSTART;TZID=America/Phoenix:20251119T180000
DTEND;TZID=America/Phoenix:20251119T210000
DTSTAMP:20260422T224803
CREATED:20251118T212223Z
LAST-MODIFIED:20251118T212223Z
UID:34659-1763575200-1763586000@trillphx.com
SUMMARY:Fader Manners at TRILL: Open DJ Scratch Session \,  Nov 19
DESCRIPTION:Yo\, Phoenix! Ready to get your hands dirty on the decks? Tomorrow night is about to be SICK at TRILL Hip Hop Shop. We’re bringing back Fader Manners\, and this one’s gonna be special. \nIf you’ve been sitting on the sidelines watching DJs work their magic\, wondering what it feels like to cut\, scratch\, and blend tracks like a pro – this is YOUR moment. Wednesday\, November 19th\, we’re opening up the tables for everyone. And we mean EVERYONE. \nWhat’s Fader Manners All About?\nReal talk – Fader Manners isn’t just another DJ night. It’s a monthly scratch session that’s become the heartbeat of Phoenix’s turntable community. This is where beginners get their first taste of vinyl magic\, where seasoned DJs come to sharpen their skills\, and where the culture gets passed down the right way. \n \nThe whole concept is simple but powerful: open tables\, open minds\, open community. No judgment\, no gatekeeping – just pure love for the art of DJing. Whether you’ve never touched a turntable in your life or you’ve been spinning since back in the day\, there’s space for you at these tables. \nEvery month\, we clear out space in the shop\, set up the decks\, and let the community take over. It’s become this beautiful thing where knowledge gets shared\, skills get developed\, and friendships get made over beats and breaks. \nTomorrow Night’s Details\nHere’s what you need to know for tomorrow: \nWhen: Wednesday\, November 19th\nWhere: TRILL Hip Hop Shop\nCost: Completely FREE\nAge: All ages welcome \nThat’s right – FREE and ALL AGES. No excuse not to roll through and see what this is all about. We’ve made it as accessible as possible because we believe everyone deserves a chance to experience this culture firsthand. \nYour Hosts for the Night\nTomorrow’s session is being hosted by three absolute legends in the Phoenix scene: \nDJ Akshen – This cat’s been holding it down in Phoenix for years. Known for his technical skills and his ability to break down complex techniques in ways that actually make sense. If you’re trying to learn proper scratch fundamentals\, Akshen’s your guy. \nDiego Dundie – Brings that perfect mix of old school knowledge and new school innovation. Diego’s all about helping people find their own style while respecting the foundations. Plus\, he’s got the patience of a saint when it comes to teaching. \nLes 135 – A true student of the craft who’s always pushing boundaries. Les understands that scratching is both art and science\, and he’s passionate about sharing that knowledge with anyone ready to learn. \nThese three aren’t just skilled DJs – they’re educators\, community builders\, and guardians of hip-hop culture. Having them guide tomorrow’s session means you’re getting authentic knowledge from people who truly live this.
URL:https://trillphx.com/event/fader-manners-at-trill-open-dj-scratch-session-nov-19/
LOCATION:Trill Hip Hop Shop\, 4828 N. 16th St\, Phoenix\, AZ\, 85014\, United States
CATEGORIES:DJ Events
ATTACH;FMTTYPE=image/jpeg:https://trillphx.com/wp-content/uploads/2025/11/11-19-25-FM-FLYER.jpeg
END:VEVENT
BEGIN:VEVENT
DTSTART;TZID=America/Phoenix:20251121T170000
DTEND;TZID=America/Phoenix:20251121T210000
DTSTAMP:20260422T224803
CREATED:20251113T003546Z
LAST-MODIFIED:20251113T003546Z
UID:34633-1763744400-1763758800@trillphx.com
SUMMARY:Biorhythms Tour Hits TRILL Feat: Mid Century Modern\, Good People\, and DJ Phil the Vibe.
DESCRIPTION:Mark your calendars and clear your Thursday evening – November 21st is about to be LEGENDARY! \nThe Biorhythms Tour is rolling into Phoenix and making a stop right here at TRILL Hip Hop Shop! We’re talking about a completely FREE\, all-ages hip hop experience featuring Mid Century Modern\, Good People\, and DJ Phil the Vibe. This isn’t just another show – this is community\, culture\, and pure hip hop energy all under one roof. \nMid Century Modern is bringing their signature sound straight to our stage. Fresh off their “Biorhythms” album\, these cats know how to move a crowd and deliver that authentic hip hop experience that gets your whole body moving. Their tour has been making waves across the country\, and we’re beyond hyped they chose TRILL as their Phoenix stop. \nGood People – the name says it all! This crew brings that positive energy and real talk that hip hop was built on. Expect bars that hit different\, beats that knock\, and a performance that reminds you why you fell in love with this culture in the first place. \nAnd holding it all down behind the turntables? DJ Phil the Vibe is going to keep the energy flowing all night long. This isn’t just background music – Phil knows how to read a room and keep everyone locked in from the first beat to the last.
URL:https://trillphx.com/event/biorhythms-tour-hits-trill-feat-mid-century-modern-good-people-and-dj-phil-the-vibe/
LOCATION:AZ
ATTACH;FMTTYPE=image/jpeg:https://trillphx.com/wp-content/uploads/2025/11/11-21-25-Poster-scaled.jpg
END:VEVENT
BEGIN:VEVENT
DTSTART;TZID=America/Phoenix:20251128T170000
DTEND;TZID=America/Phoenix:20251128T210000
DTSTAMP:20260422T224803
CREATED:20251128T202617Z
LAST-MODIFIED:20251127T222847Z
UID:34713-1764349200-1764363600@trillphx.com
SUMMARY:Furious Styles Crew Top Rock Battle Tonight At Trill.
DESCRIPTION:AZ dancers\, B-boys\, B-girls: it’s battle time! Furious Styles Crew is bringing the Toprock Battle to TRILL Hip Hop Shop TONIGHT for one night only!  Who’s got the best style on deck? Show up\, throw down\, and compete for $500 CASH and dope prizes! Judges tap in: Eddie Styles\, Lily Breeze & Ricky Rocany. Open to all – seasoned heads\, up-and-comers\, or anyone with moves and flavor. This is the spot to test your skills and vibe with the whole AZ hip hop fam! Pull up\, bring your crew\, and make history with us! See you on the floor tonight at TRILL – don’t miss out!  #FuriousStylesCrew #ToprockBattle #TRILLPHX #AZHipHop #Bboy #Bgirl #OneNightOnly #CommunityVibes #BattleForTheCulture
URL:https://trillphx.com/event/furious-styles-crew-top-rock-battle-tonight-at-trill/
LOCATION:AZ
CATEGORIES:In-Store Events
ATTACH;FMTTYPE=image/jpeg:https://trillphx.com/wp-content/uploads/2025/11/IMG_5792.jpeg
END:VEVENT
END:VCALENDAR