BEGIN:VCALENDAR
VERSION:2.0
PRODID:-//Trill Hip-Hop Shop - ECPv6.15.11//NONSGML v1.0//EN
CALSCALE:GREGORIAN
METHOD:PUBLISH
X-ORIGINAL-URL:https://trillphx.com
X-WR-CALDESC:Events for Trill Hip-Hop Shop
REFRESH-INTERVAL;VALUE=DURATION:PT1H
X-Robots-Tag:noindex
X-PUBLISHED-TTL:PT1H
BEGIN:VTIMEZONE
TZID:America/Phoenix
BEGIN:STANDARD
TZOFFSETFROM:-0700
TZOFFSETTO:-0700
TZNAME:MST
DTSTART:20180101T000000
END:STANDARD
END:VTIMEZONE
BEGIN:VEVENT
DTSTART;TZID=America/Phoenix:20190626T170000
DTEND;TZID=America/Phoenix:20190626T210000
DTSTAMP:20260421T232430
CREATED:20190610T204259Z
LAST-MODIFIED:20190610T204259Z
UID:8177-1561568400-1561582800@trillphx.com
SUMMARY:Da Odd Couple (Mista Sinista & Rob Swift) & Fader Manners
DESCRIPTION:Da Odd Couple (Mista Sinista & Rob Swift) & Fader Manners\nAll DJ’s / All Skill Levels are welcome to come in and spin with the legendary Executioners and Coolin’ Out DJ Squad. This event is brought to you by Fader Manners\, Trill\, and Coolin Out Entertainment \nFree Show / All Ages / 5pm – 9pm \nTrill In-Store
URL:https://trillphx.com/event/da-odd-couple-mista-sinista-rob-swift-fader-manners/
LOCATION:Trill Hip Hop Shop\, 4828 N. 16th St\, Phoenix\, AZ\, 85014\, United States
CATEGORIES:In-Store Events
END:VEVENT
BEGIN:VEVENT
DTSTART;TZID=America/Phoenix:20190627T180000
DTEND;TZID=America/Phoenix:20190627T210000
DTSTAMP:20260421T232430
CREATED:20190610T203450Z
LAST-MODIFIED:20190610T203450Z
UID:8149-1561658400-1561669200@trillphx.com
SUMMARY:Mike Theory - No Guarantees with Special Guests
DESCRIPTION:Mike Theory – No Guarantees with Special Guests: Megatron\, Paydro\, B-Style\, Tha L.O.C. in the mix!\nMeet & Greet + Live Performances at the Trill Shop! \nFree Show / Doors at 6pm \n 
URL:https://trillphx.com/event/mike-theory-no-guarantees-with-special-guests/
LOCATION:Trill Hip Hop Shop\, 4828 N. 16th St\, Phoenix\, AZ\, 85014\, United States
CATEGORIES:In-Store Events
END:VEVENT
END:VCALENDAR