BEGIN:VCALENDAR
VERSION:2.0
PRODID:-//Trill Hip-Hop Shop - ECPv6.15.11//NONSGML v1.0//EN
CALSCALE:GREGORIAN
METHOD:PUBLISH
X-WR-CALNAME:Trill Hip-Hop Shop
X-ORIGINAL-URL:https://trillphx.com
X-WR-CALDESC:Events for Trill Hip-Hop Shop
REFRESH-INTERVAL;VALUE=DURATION:PT1H
X-Robots-Tag:noindex
X-PUBLISHED-TTL:PT1H
BEGIN:VTIMEZONE
TZID:America/Phoenix
BEGIN:STANDARD
TZOFFSETFROM:-0700
TZOFFSETTO:-0700
TZNAME:MST
DTSTART:20180101T000000
END:STANDARD
END:VTIMEZONE
BEGIN:VEVENT
DTSTART;TZID=America/Phoenix:20190203T140000
DTEND;TZID=America/Phoenix:20190203T170000
DTSTAMP:20260422T080907
CREATED:20190130T024350Z
LAST-MODIFIED:20190216T110615Z
UID:6475-1549202400-1549213200@trillphx.com
SUMMARY:Turnstyles DJ Training and BBQ with Psycho Pat and Xist
DESCRIPTION:This Sunday\, February 3rd DJs Psycho Pat and Xist will be offering free DJ training complete with delicious BBQ. The event runs from 2pm – 5pm at Trill Hip Hop Shop. This is an all ages and FREE event! Trill is located at 2501 E Indian School Rd in Phoenix. Hope we see you there!
URL:https://trillphx.com/event/turnstyles-dj-training-and-bbq-with-psycho-pat-and-xist/
LOCATION:Trill Hip Hop Shop\, 4828 N. 16th St\, Phoenix\, AZ\, 85014\, United States
CATEGORIES:DJ Events,In-Store Events
END:VEVENT
BEGIN:VEVENT
DTSTART;TZID=America/Phoenix:20190207T160000
DTEND;TZID=America/Phoenix:20190207T190000
DTSTAMP:20260422T080907
CREATED:20190205T024358Z
LAST-MODIFIED:20190216T110647Z
UID:6561-1549555200-1549566000@trillphx.com
SUMMARY:Trill's Slapfrost In-Store ft. Casual\, Z-Man\, Vocab Slick\, and DJ True Justice
DESCRIPTION:Coolin Out Entertainment & Trill presents the Slap Frost Tour in-store at Trill Hip Hop Shop this Thursday\, February 7th from 4pm – 7pm. This is a free\, all ages event!
URL:https://trillphx.com/event/trills-slapfrost-in-store-ft-casual-z-man-vocab-slick-and-dj-true-justice/
LOCATION:Trill Hip Hop Shop\, 4828 N. 16th St\, Phoenix\, AZ\, 85014\, United States
CATEGORIES:In-Store Events
END:VEVENT
BEGIN:VEVENT
DTSTART;TZID=America/Phoenix:20190208T180000
DTEND;TZID=America/Phoenix:20190208T220000
DTSTAMP:20260422T080907
CREATED:20190125T012723Z
LAST-MODIFIED:20190216T110714Z
UID:6398-1549648800-1549663200@trillphx.com
SUMMARY:Sticker Shogun The After Party
DESCRIPTION:The official Sticker Shogun After Party at Trill February 8th from 6pm – 10pm. Live DJs\, Live Printing. Hosted by Champ Styles.  This is a free show and it’s all ages!
URL:https://trillphx.com/event/sticker-shogun-the-after-party/
LOCATION:Trill Hip Hop Shop\, 4828 N. 16th St\, Phoenix\, AZ\, 85014\, United States
CATEGORIES:In-Store Events
END:VEVENT
BEGIN:VEVENT
DTSTART;TZID=America/Phoenix:20190220T180000
DTEND;TZID=America/Phoenix:20190220T210000
DTSTAMP:20260422T080907
CREATED:20190125T012244Z
LAST-MODIFIED:20190216T110801Z
UID:6395-1550685600-1550696400@trillphx.com
SUMMARY:Fader Manners ft. D-Styles
DESCRIPTION:Fader Manners at Trill Wednesday February 20th from 6pm – 9pm with the legendary D-Styles from the Invisibl Skratch Piklz and the World Famous Beat Junkies. This is a free show and it is all ages!
URL:https://trillphx.com/event/fader-manners-ft-d-styles/
LOCATION:Trill Hip Hop Shop\, 4828 N. 16th St\, Phoenix\, AZ\, 85014\, United States
CATEGORIES:DJ Events,In-Store Events
END:VEVENT
BEGIN:VEVENT
DTSTART;TZID=America/Phoenix:20190220T210000
DTEND;TZID=America/Phoenix:20190221T210000
DTSTAMP:20260422T080907
CREATED:20190216T111407Z
LAST-MODIFIED:20190216T111407Z
UID:6687-1550696400-1550782800@trillphx.com
SUMMARY:D-Styles After Party
DESCRIPTION:D-Styles will be performing at Rips Bar with DJs Fact135\, Tricky T\, M2\, Element\, and the Fader Manners Crew. 9pm – 2am. This is a Free show. 21+
URL:https://trillphx.com/event/d-styles-after-party/
LOCATION:Rips Bar\, 3045 N 16th St\, Phoenix\, AZ\, 85016
CATEGORIES:DJ Events
END:VEVENT
BEGIN:VEVENT
DTSTART;TZID=America/Phoenix:20190228T170000
DTEND;TZID=America/Phoenix:20190228T190000
DTSTAMP:20260422T080907
CREATED:20190216T111927Z
LAST-MODIFIED:20190216T111927Z
UID:6691-1551373200-1551380400@trillphx.com
SUMMARY:Rockness Monstah Meet & Greet at Trill
DESCRIPTION:Rockness Monstah of Heltah Skeltah will be at Trill Hip Hop Shop February 28th from 5pm – 7pm for a Meet & Greet. This is an all ages event and it’s FREE!
URL:https://trillphx.com/event/rockness-monstah-meet-greet-at-trill/
LOCATION:Trill Hip Hop Shop\, 4828 N. 16th St\, Phoenix\, AZ\, 85014\, United States
CATEGORIES:In-Store Events
END:VEVENT
END:VCALENDAR