BEGIN:VCALENDAR
VERSION:2.0
PRODID:-//Trill Hip-Hop Shop - ECPv6.15.11//NONSGML v1.0//EN
CALSCALE:GREGORIAN
METHOD:PUBLISH
X-WR-CALNAME:Trill Hip-Hop Shop
X-ORIGINAL-URL:https://trillphx.com
X-WR-CALDESC:Events for Trill Hip-Hop Shop
REFRESH-INTERVAL;VALUE=DURATION:PT1H
X-Robots-Tag:noindex
X-PUBLISHED-TTL:PT1H
BEGIN:VTIMEZONE
TZID:America/Phoenix
BEGIN:STANDARD
TZOFFSETFROM:-0700
TZOFFSETTO:-0700
TZNAME:MST
DTSTART:20240101T000000
END:STANDARD
END:VTIMEZONE
BEGIN:VEVENT
DTSTART;TZID=America/Phoenix:20251201T200000
DTEND;TZID=America/Phoenix:20251201T233000
DTSTAMP:20260424T004514
CREATED:20251127T214126Z
LAST-MODIFIED:20251127T214126Z
UID:34707-1764619200-1764631800@trillphx.com
SUMMARY:Motown On Mondays Furious Styles Wrap Up Party
DESCRIPTION:We’re closing out the Furious Styles Crew Anniversary with all that Motown love! Pull UP for Motown on Monday at Stardust Pinbar: one last dance to wrap up the celebration!  We got Tricky T\, Akshen\, Reflekshen\, DJ Panic\, and DJ Cars (all the way from Denmark FSC) bringing nothing but the classics\, soul\, and good vibes from 8PM till close. This is a FREE community party\, no cover: just straight up good music\, good people\, and an epic vibe. 21+ only! Whether you’re OG FSC fam\, new to the scene\, or just here to vibe and celebrate the culture\, this party’s for YOU. Let’s pack the dance floor\, connect\, and close this chapter with a bang! Stardust Pinbar\, Phoenix. No excuses\, see you there! #FuriousStylesCrew #MotownOnMonday #AZHipHop #CommunityVibes #TRILLPHX #HipHopCulture #NoCover #AZEvents #PhoenixNights #SupportLocal
URL:https://trillphx.com/event/motown-on-mondays-furious-styles-wrap-up-party/
LOCATION:star dust pinball lounge\, 401 W Van Buren St\, Phoenix\, 85003
CATEGORIES:General Events
ATTACH;FMTTYPE=image/jpeg:https://trillphx.com/wp-content/uploads/2025/11/unnamed.jpg
END:VEVENT
BEGIN:VEVENT
DTSTART;TZID=America/Phoenix:20251206T090000
DTEND;TZID=America/Phoenix:20251206T170000
DTSTAMP:20260424T004514
CREATED:20251124T003026Z
LAST-MODIFIED:20251124T003026Z
UID:34683-1765011600-1765040400@trillphx.com
SUMMARY: Orange County \, we’re pulling up!  TRILL is headed to Cal State Fullerton’s Thriftopia Pop-Up
DESCRIPTION: Orange County \, we’re pulling up!  TRILL is headed to Cal State Fullerton’s Thriftopia Pop-Up and we’re coming heavy with the heat!  Swing by our booth for the freshest vintage streetwear\, rare hip hop collectibles\, tees\, jerseys\, vinyl\, and way more exclusive finds. Whether you’re hunting for one-of-a-kind grails or just want to vibe with the TRILL fam\, this is the spot!\nDon’t sleep: come build\, shop\, and help keep the culture alive with us. See y’all at Thriftopia! \n#TrillHipHopShop #Thriftopia #Fullerton #HipHopCulture #VintageFinds #CommunityFirst
URL:https://trillphx.com/event/orange-county-were-pulling-up-trill-is-headed-to-cal-state-fullertons-thriftopia-pop-up/
LOCATION:cal state fullerton\, 900 Nutwood Ave\, Fullerton\, CA\, 92831
CATEGORIES:General Events
ATTACH;FMTTYPE=image/jpeg:https://trillphx.com/wp-content/uploads/2025/11/586533667_1297983819015491_8054029155190235503_n.jpg
END:VEVENT
BEGIN:VEVENT
DTSTART;TZID=America/Phoenix:20260220T190000
DTEND;TZID=America/Phoenix:20260220T210000
DTSTAMP:20260424T004514
CREATED:20260123T043607Z
LAST-MODIFIED:20260123T185726Z
UID:34922-1771614000-1771621200@trillphx.com
SUMMARY:The Warriors Art Show VIP Friday w/ Swan\, Fox\, Vermin & The Purple Baseball Fury
DESCRIPTION:The Warriors Art Show VIP Friday\nGet ready for an epic night in person with actors from the movie Swan\, Vermin\, Fox and the Purple Baseball Fury! Dive into exclusive art inspired by these cult favorites and meet the stars up close. It’s the perfect chance to vibe with fellow fans\, grab some cool merch\, and soak in the creative energy. Don’t miss out on this one-of-a-kind VIP experience — Friday’s gonna be legendary! \n\n\n\n\nTHE ULTIMATE WARRIORS COLLECTOR’S BOX  \nWarriors\, come out to play-ay! ️ For the first time ever\, we are dropping a 100% EXCLUSIVE VIP Experience for the Warriors Art Show. \nWe only have 100 tickets available. Once they’re gone\, the chance to get this whole set is over. \nThe $149.99 VIP Box includes:\n✅ THE CAST: Meet & get 1 Autograph from each of the 4 cast members (Swan\, Fox\, Vermin\, and the Purple Baseball Fury).\n✅ THE PHOTO: A professional group photo with the whole squad.\n✅ THE PLUSHIES: Full set of all 4 limited edition plushies.\n✅ THE GEAR: Exclusive Event T-Shirt + Art Show Tote Bag + Sticker Pack.\n✅ THE ART: Official 11×17 Event Poster. \nWHEN: Friday\, Feb 20th | 7 PM – 9 PM\nWHERE: TRILL Hip Hop Shop \nThis is easily a $400+ value\, but we’re doing it for the culture. This will sell out fast—don’t say we didn’t warn you.
URL:https://trillphx.com/event/the-warriors-art-show-vip-friday-w-swan-fox-vermin-the-purple-baseball-fury/
LOCATION:Trill Hip Hop Shop\, 4828 N. 16th St\, Phoenix\, AZ\, 85014\, United States
CATEGORIES:General Events
ATTACH;FMTTYPE=image/png:https://trillphx.com/wp-content/uploads/2026/01/FRI_VIP_Warriors.png
END:VEVENT
BEGIN:VEVENT
DTSTART;TZID=America/Phoenix:20260221T150000
DTEND;TZID=America/Phoenix:20260221T210000
DTSTAMP:20260424T004514
CREATED:20260112T012523Z
LAST-MODIFIED:20260123T004826Z
UID:34844-1771686000-1771707600@trillphx.com
SUMMARY:W The Art Show Inspired By The Cult Classic Film The Warriors
DESCRIPTION:Join us for the W Art Show where Swan\, Fox\, Vermin & Purple Fury bring warrior vibes to life!\n\n\n\nW Art Show: Inspired By The Warriors  \nGet ready for an incredible in-person art experience at TRILL! This show features a massive collection of original works inspired by the cult classic The Warriors\, created by a heavy lineup of artists from across Arizona and California. \nCome see how the culture has reimagined the streets of NYC through the eyes of the best artists in the game. \n SPECIAL GUEST APPEARANCE:\nWe are hosting the legendary actors from the film!\nSwan • Fox • Vermin • The Purple Baseball Fury \nThe cast will be on-site for signings and photos (extra fees apply). They will also have their own books\, posters\, prints\, and exclusive merch available at their tables! \n*The Ticket Price is just to get into the event..
URL:https://trillphx.com/event/w-the-art-show-inspired-by-the-cult-classic-film-the-warriors/
LOCATION:Trill Hip Hop Shop\, 4828 N. 16th St\, Phoenix\, AZ\, 85014\, United States
CATEGORIES:General Events
ATTACH;FMTTYPE=image/png:https://trillphx.com/wp-content/uploads/2026/01/FRI_SAT_Warriors_Banner.png
END:VEVENT
END:VCALENDAR