BEGIN:VCALENDAR
VERSION:2.0
PRODID:-//Trill Hip-Hop Shop - ECPv6.15.11//NONSGML v1.0//EN
CALSCALE:GREGORIAN
METHOD:PUBLISH
X-ORIGINAL-URL:https://trillphx.com
X-WR-CALDESC:Events for Trill Hip-Hop Shop
REFRESH-INTERVAL;VALUE=DURATION:PT1H
X-Robots-Tag:noindex
X-PUBLISHED-TTL:PT1H
BEGIN:VTIMEZONE
TZID:America/Phoenix
BEGIN:STANDARD
TZOFFSETFROM:-0700
TZOFFSETTO:-0700
TZNAME:MST
DTSTART:20200101T000000
END:STANDARD
END:VTIMEZONE
BEGIN:VEVENT
DTSTART;TZID=America/Phoenix:20211013T210000
DTEND;TZID=America/Phoenix:20211014T020000
DTSTAMP:20260423T221900
CREATED:20211011T183824Z
LAST-MODIFIED:20211011T183824Z
UID:27658-1634158800-1634176800@trillphx.com
SUMMARY:Wu-Tang Wednesday Edition of the Dave Thomas Show
DESCRIPTION:The Dave Thomas Show brings you their monthly Wu-Tang Wednesday this Wednesday\, October 13th at Rips Bar. DJs Tricky T & Fact135 will be playing all Wu-Tang and Wu-Tang related tracks all night. As usual this is a free event. Rips Bar also has free pool all night for those who attend. \nThis is a 21+ event \nNo Cover
URL:https://trillphx.com/event/wu-tang-wednesday-edition-of-the-dave-thomas-show/
LOCATION:Rips Bar\, 3045 N 16th St\, Phoenix\, AZ\, 85016
CATEGORIES:General Events
ATTACH;FMTTYPE=image/jpeg:https://trillphx.com/wp-content/uploads/2021/10/wutang_wednesday.jpg
END:VEVENT
BEGIN:VEVENT
DTSTART;TZID=America/Phoenix:20211030T210000
DTEND;TZID=America/Phoenix:20211031T020000
DTSTAMP:20260423T221900
CREATED:20211018T212609Z
LAST-MODIFIED:20211018T213405Z
UID:27689-1635627600-1635645600@trillphx.com
SUMMARY:Boogie Down The Official Trilloween After Party
DESCRIPTION:Saturday\, October 30th Trill Hip Hop Shop presents Boogie Down\, the official Trilloween After Party at Rips Bar! \nAfter the Trilloween day party at Trill Hip Hop Shop\, come over to Rips Bar for the official Trilloween after party featuring a DJ set by Crazy Legs of Rock Steady Crew. Joining Crazy Legs will be Coolin’ Out DJs Fact135\, JabaOne\, and M2 who will be set up 2×4 for your listening pleasure. The event will be hosted by the one and only D-Stroy of the Arsonists and Showoff Your Gems! \nThere will also be a costume contest in which the winner will receive $100 cash and a $100 Trill Hip Hop gift card… So get creative! \nWe hope to see you at both events\, Trilloween and Boogie Down! \nThis is a 21+ event \nThis is a FREE show
URL:https://trillphx.com/event/boogie-down-the-trilloween-after-party/
LOCATION:Rips Bar\, 3045 N 16th St\, Phoenix\, AZ\, 85016
CATEGORIES:General Events
ATTACH;FMTTYPE=image/jpeg:https://trillphx.com/wp-content/uploads/2021/10/trilloween_after_party.jpg
END:VEVENT
END:VCALENDAR