BEGIN:VCALENDAR
VERSION:2.0
PRODID:-//Trill Hip-Hop Shop - ECPv6.15.11//NONSGML v1.0//EN
CALSCALE:GREGORIAN
METHOD:PUBLISH
X-WR-CALNAME:Trill Hip-Hop Shop
X-ORIGINAL-URL:https://trillphx.com
X-WR-CALDESC:Events for Trill Hip-Hop Shop
REFRESH-INTERVAL;VALUE=DURATION:PT1H
X-Robots-Tag:noindex
X-PUBLISHED-TTL:PT1H
BEGIN:VTIMEZONE
TZID:America/Phoenix
BEGIN:STANDARD
TZOFFSETFROM:-0700
TZOFFSETTO:-0700
TZNAME:MST
DTSTART:20240101T000000
END:STANDARD
END:VTIMEZONE
BEGIN:VEVENT
DTSTART;TZID=America/Phoenix:20250227T180000
DTEND;TZID=America/Phoenix:20250227T203000
DTSTAMP:20260424T032451
CREATED:20250220T005710Z
LAST-MODIFIED:20250220T005710Z
UID:33603-1740679200-1740688200@trillphx.com
SUMMARY:Fader Manners
DESCRIPTION:Fader Manners is a DJ community. Build. Scratch. Unite.
URL:https://trillphx.com/event/fader-manners-022725/
LOCATION:Trill Hip Hop Shop\, 4828 N. 16th St\, Phoenix\, AZ\, 85014\, United States
CATEGORIES:DJ Events,Fader Manners
ATTACH;FMTTYPE=image/jpeg:https://trillphx.com/wp-content/uploads/2025/02/022725_faderManners.jpg
END:VEVENT
BEGIN:VEVENT
DTSTART;TZID=America/Phoenix:20250330T130000
DTEND;TZID=America/Phoenix:20250330T150000
DTSTAMP:20260424T032451
CREATED:20250325T230825Z
LAST-MODIFIED:20250325T230825Z
UID:33732-1743339600-1743346800@trillphx.com
SUMMARY:Selena Tribute
DESCRIPTION:Music by Lauren Sovereign spinning originals\, remixes & Quinceaños jams\nAwards for Best Dressed & Lookalike Contest!
URL:https://trillphx.com/event/selena-tribute/
LOCATION:Trill Hip Hop Shop\, 4828 N. 16th St\, Phoenix\, AZ\, 85014\, United States
CATEGORIES:DJ Events,In-Store Events
ATTACH;FMTTYPE=image/jpeg:https://trillphx.com/wp-content/uploads/2025/03/IMG_2792.jpg
END:VEVENT
BEGIN:VEVENT
DTSTART;TZID=America/Phoenix:20250731T180000
DTEND;TZID=America/Phoenix:20250731T210000
DTSTAMP:20260424T032451
CREATED:20250718T090353Z
LAST-MODIFIED:20250718T090353Z
UID:34206-1753984800-1753995600@trillphx.com
SUMMARY:Faders Manners At Trill.
DESCRIPTION:Celebrate Hip-Hop Culture at the Fader Manners Event – Free for All!\nGet ready\, Phoenix! The vibrant spirit of hip-hop comes alive this summer at the Fader Manners event. Mark your calendars for Thursday\, July 31st\, 2025\, and join us at the iconic TRILL Hip Hop Shop\, located at 4828 North 16th Street\, Phoenix\, AZ 85016. This is more than just an event—it’s a celebration of community\, talent\, and the art of DJing. Best of all? It’s completely free! \nWhat to Expect at Fader Manners\nWhether you’re a seasoned DJ\, just picking up the craft\, or simply a huge fan of hip-hop culture\, Fader Manners welcomes all ages and all skill levels. Here’s your chance to immerse yourself in an unforgettable evening of music\, creativity\, and collaboration. \n\nOpen Tables – Step up and show off your own turntable skills!\nCommunity Spirit – Meet like-minded DJs\, hip-hop enthusiasts\, and music lovers in a supportive and inclusive environment.\nUnmatched Talent – Watch some of Arizona’s finest DJs take the stage to inspire the crowd.\n\nThe night revolves around one shared mission—building connections through music\, scratching\, and unity. Whether you’re here to perform\, learn\, or simply soak in the artistry\, Fader Manners is where it all comes together. \nMeet the Featured DJs\nOne of the cornerstones of Fader Manners is the phenomenal lineup of DJs. These local legends are guaranteed to make the event unforgettable: \n\nDiego Dundee – Known for his electrifying performances\, Diego Dundee is a crowd favorite who never fails to raise the energy.\nLes – A true master behind the decks\, Les brings talent and style to the stage in every set.\nDJ Akshen – With years of experience and an unmatched skill set\, DJ Akshen is sure to wow the crowd.\nDJ Legacy – The name says it all—DJ Legacy is a staple of the Arizona hip-hop scene with sets that leave a lasting impression.\nMadd Maxx – Prepare to be blown away by Madd Maxx’s creativity and passion for the craft.\n\nTogether\, these talented individuals represent the very best of the Phoenix DJ scene. Don’t miss the chance to hear them live. \nFader Manners Is More Than an Event—It’s a Movement\nFader Manners embodies a community-driven\, DJ-inspired ethos. From aspiring artists using the open tables to seasoned pros showcasing their skills\, this event celebrates every aspect of DJ culture. It’s a movement fueled by passion\, where every scratch\, beat\, and fade contributes to the rich tapestry of hip-hop. \nThe TRILL Hip Hop Shop\, with its own deep roots in Arizona’s hip-hop community\, provides the perfect backdrop for this celebration. It’s more than just a venue—it’s a gathering place where artists\, fans\, and creatives unite to share their love for the art form. \nWhy Should You Attend?\nStill need a reason to check out Fader Manners? Here are just a few: \n\nIt’s Free – No tickets\, no fees\, no hassle! Just show up and join the fun.\nOpen to Everyone – Whether you’re 12 or 72\, a veteran DJ or just love great music\, Fader Manners is for you.\nBe Part of the Culture – Experience the energy and creative expression that makes hip-hop so impactful.\nNetwork and Learn – Connect with a supportive community and gain inspiration from other artists.\nFamily-Friendly – A rare opportunity for the whole family to enjoy the rhythms and vibes of Phoenix’s hip-hop scene.\n\nEvent Details at a Glance\n\nDate: Thursday\, July 31st\, 2025\nTime: 6:00 PM – 8:30 PM\nLocation: TRILL Hip Hop Shop\, 4828 North 16th Street\, Phoenix\, AZ 85016\nCost: FREE\n\nWhether you’re ready to step into the spotlight or just want to support the local scene\, Fader Manners offers something for everyone. \nDon’t Miss Out!\nThis is your chance to be part of something amazing. Fader Manners is more than just an event—it’s a hub for creativity\, community\, and celebration. Bring your friends\, family\, and your passion for hip-hop\, and join us on July 31st. \nFollow @fadermanners on social media for the latest updates\, and get ready for an evening packed with talent\, vibes\, and unforgettable memories. \nSee you there—Phoenix is ready to scratch\, build\, and unite!
URL:https://trillphx.com/event/faders-manners-at-trill/
LOCATION:Trill Hip Hop Shop\, 4828 N. 16th St\, Phoenix\, AZ\, 85014\, United States
CATEGORIES:DJ Events
ATTACH;FMTTYPE=image/jpeg:https://trillphx.com/wp-content/uploads/2025/07/fader-mannnnner.jpg
END:VEVENT
BEGIN:VEVENT
DTSTART;TZID=America/Phoenix:20251119T180000
DTEND;TZID=America/Phoenix:20251119T210000
DTSTAMP:20260424T032451
CREATED:20251118T212223Z
LAST-MODIFIED:20251118T212223Z
UID:34659-1763575200-1763586000@trillphx.com
SUMMARY:Fader Manners at TRILL: Open DJ Scratch Session \,  Nov 19
DESCRIPTION:Yo\, Phoenix! Ready to get your hands dirty on the decks? Tomorrow night is about to be SICK at TRILL Hip Hop Shop. We’re bringing back Fader Manners\, and this one’s gonna be special. \nIf you’ve been sitting on the sidelines watching DJs work their magic\, wondering what it feels like to cut\, scratch\, and blend tracks like a pro – this is YOUR moment. Wednesday\, November 19th\, we’re opening up the tables for everyone. And we mean EVERYONE. \nWhat’s Fader Manners All About?\nReal talk – Fader Manners isn’t just another DJ night. It’s a monthly scratch session that’s become the heartbeat of Phoenix’s turntable community. This is where beginners get their first taste of vinyl magic\, where seasoned DJs come to sharpen their skills\, and where the culture gets passed down the right way. \n \nThe whole concept is simple but powerful: open tables\, open minds\, open community. No judgment\, no gatekeeping – just pure love for the art of DJing. Whether you’ve never touched a turntable in your life or you’ve been spinning since back in the day\, there’s space for you at these tables. \nEvery month\, we clear out space in the shop\, set up the decks\, and let the community take over. It’s become this beautiful thing where knowledge gets shared\, skills get developed\, and friendships get made over beats and breaks. \nTomorrow Night’s Details\nHere’s what you need to know for tomorrow: \nWhen: Wednesday\, November 19th\nWhere: TRILL Hip Hop Shop\nCost: Completely FREE\nAge: All ages welcome \nThat’s right – FREE and ALL AGES. No excuse not to roll through and see what this is all about. We’ve made it as accessible as possible because we believe everyone deserves a chance to experience this culture firsthand. \nYour Hosts for the Night\nTomorrow’s session is being hosted by three absolute legends in the Phoenix scene: \nDJ Akshen – This cat’s been holding it down in Phoenix for years. Known for his technical skills and his ability to break down complex techniques in ways that actually make sense. If you’re trying to learn proper scratch fundamentals\, Akshen’s your guy. \nDiego Dundie – Brings that perfect mix of old school knowledge and new school innovation. Diego’s all about helping people find their own style while respecting the foundations. Plus\, he’s got the patience of a saint when it comes to teaching. \nLes 135 – A true student of the craft who’s always pushing boundaries. Les understands that scratching is both art and science\, and he’s passionate about sharing that knowledge with anyone ready to learn. \nThese three aren’t just skilled DJs – they’re educators\, community builders\, and guardians of hip-hop culture. Having them guide tomorrow’s session means you’re getting authentic knowledge from people who truly live this.
URL:https://trillphx.com/event/fader-manners-at-trill-open-dj-scratch-session-nov-19/
LOCATION:Trill Hip Hop Shop\, 4828 N. 16th St\, Phoenix\, AZ\, 85014\, United States
CATEGORIES:DJ Events
ATTACH;FMTTYPE=image/jpeg:https://trillphx.com/wp-content/uploads/2025/11/11-19-25-FM-FLYER.jpeg
END:VEVENT
BEGIN:VEVENT
DTSTART;TZID=America/Phoenix:20260418T100000
DTEND;TZID=America/Phoenix:20260418T200000
DTSTAMP:20260424T032451
CREATED:20260416T190551Z
LAST-MODIFIED:20260416T190551Z
UID:35191-1776506400-1776542400@trillphx.com
SUMMARY:RECORD STORE DAY 2026 IS FINALLY HERE! 🎤🔥
DESCRIPTION:RECORD STORE DAY 2026 IS FINALLY HERE! 🎤🔥 We’re going BIG this Saturday at TRILL! We’ve got the crates packed with a massive new stock of vinyl\, including ALL of the 2026 RSD drops. If it’s on the list\, we’ve got it ready for you to crate dig! 💿🥁 We’re opening DOORS EARLY at 10 AM and keeping the energy high all the way until 8 PM! ⏰ The DJ lineup is legendary\, spinning all day long to keep the vibes right while you shop: 🎧 10am: Felix Fresh 🎧 11am: Johnny Castro 🎧 12pm: DJ Tranzo 🎧 1pm: DJ Clavo 🎧 2pm: Phil the Vibe 🎧 3pm: DJ Akshen 🎧 4pm: Chicano Grease 🎧 5pm: DJ Reflekshin 🎧 6pm: DJ Melo I’ll be at the shop all day\, so come say what’s up and grab some fresh wax for the collection! 👊 What RSD 2026 vinyl are you most hyped to cop from TRILL? Let us know in the comments! 👇 Pull up\, vibe out\, and let’s keep the culture alive. See you this Saturday! 🕊️💯 #RecordStoreDay2026 #VinylCommunity #TrillPhx #HipHopCulture
URL:https://trillphx.com/event/record-store-day-2026-is-finally-here-%f0%9f%8e%a4%f0%9f%94%a5/
LOCATION:trill on 16th\, 4828 North 16th Street\, Phoenix\, AZ\, 85016\, United States
CATEGORIES:DJ Events
ATTACH;FMTTYPE=image/jpeg:https://trillphx.com/wp-content/uploads/2026/04/RSD2026_4x6-copy.jpg
END:VEVENT
END:VCALENDAR