BEGIN:VCALENDAR
VERSION:2.0
PRODID:-//Trill Hip-Hop Shop - ECPv6.15.11//NONSGML v1.0//EN
CALSCALE:GREGORIAN
METHOD:PUBLISH
X-WR-CALNAME:Trill Hip-Hop Shop
X-ORIGINAL-URL:https://trillphx.com
X-WR-CALDESC:Events for Trill Hip-Hop Shop
REFRESH-INTERVAL;VALUE=DURATION:PT1H
X-Robots-Tag:noindex
X-PUBLISHED-TTL:PT1H
BEGIN:VTIMEZONE
TZID:America/Phoenix
BEGIN:STANDARD
TZOFFSETFROM:-0700
TZOFFSETTO:-0700
TZNAME:MST
DTSTART:20210101T000000
END:STANDARD
END:VTIMEZONE
BEGIN:VEVENT
DTSTART;TZID=America/Phoenix:20220601T180000
DTEND;TZID=America/Phoenix:20220601T210000
DTSTAMP:20260423T182435
CREATED:20220601T175615Z
LAST-MODIFIED:20220601T175615Z
UID:28802-1654106400-1654117200@trillphx.com
SUMMARY:Fader Manners at Trill
DESCRIPTION:Fader Manners is going down at Trill Hip Hop Shop Wednesday\, June 1st. This event is dedicated to the DJ/Turntablist art form. We unite DJs of all skill levels to scratch\, talk\, laugh\, & create camaraderie. \nThere will be open tables for a scratch session. Come build\, learn\, and unite! \nThis is a free and all ages event.
URL:https://trillphx.com/event/fader-manners-at-trill/
LOCATION:Trill Hip Hop Shop\, 4828 N. 16th St\, Phoenix\, AZ\, 85014\, United States
CATEGORIES:DJ Events,In-Store Events
ATTACH;FMTTYPE=image/png:https://trillphx.com/wp-content/uploads/2022/06/FM-06-01-22.png
END:VEVENT
END:VCALENDAR