BEGIN:VCALENDAR
VERSION:2.0
PRODID:-//Trill Hip-Hop Shop - ECPv6.15.11//NONSGML v1.0//EN
CALSCALE:GREGORIAN
METHOD:PUBLISH
X-WR-CALNAME:Trill Hip-Hop Shop
X-ORIGINAL-URL:https://trillphx.com
X-WR-CALDESC:Events for Trill Hip-Hop Shop
REFRESH-INTERVAL;VALUE=DURATION:PT1H
X-Robots-Tag:noindex
X-PUBLISHED-TTL:PT1H
BEGIN:VTIMEZONE
TZID:America/Phoenix
BEGIN:STANDARD
TZOFFSETFROM:-0700
TZOFFSETTO:-0700
TZNAME:MST
DTSTART:20210101T000000
END:STANDARD
END:VTIMEZONE
BEGIN:VEVENT
DTSTART;TZID=America/Phoenix:20220407T180000
DTEND;TZID=America/Phoenix:20220407T210000
DTSTAMP:20260423T210028
CREATED:20220404T201005Z
LAST-MODIFIED:20220404T201005Z
UID:28643-1649354400-1649365200@trillphx.com
SUMMARY:Fader Manners At Trill With Grand Wizard Theodore
DESCRIPTION:The inventor of the scratch\, Grand Wizard Theodore\, will be the special guest this month for the Fader Manners monthly meet up at Trill Hip Hop Shop Thursday\, April 7th! \nFader Manners is a monthly get together created by DJ’s Akshen and Les 735. Their goal was to unite DJ’s of all skill levels and help preserve the DJ/Turntablist art form. The monthly is a way to get DJs together to talk shop\, make new friends\, network\, and learn new scratches. There is always several turntables set up for people of all skill levels to enjoy. \nThis month Fader Manners is lucky enough to have Grand Wizard Theodore come through to speak and showcase his vast knowledge of DJing/turntablism. \nThis is a FREE and ALL AGES event!
URL:https://trillphx.com/event/fader-manners-grand-wizard-theodore/
LOCATION:Trill Hip Hop Shop\, 4828 N. 16th St\, Phoenix\, AZ\, 85014\, United States
CATEGORIES:DJ Events,In-Store Events
ATTACH;FMTTYPE=image/jpeg:https://trillphx.com/wp-content/uploads/2022/04/FM-4-07-2022-GW-THEODORE.jpg
END:VEVENT
END:VCALENDAR